{
 "currentVersion": 10.81,
 "serviceDescription": "Aerial imagery of the Sunshine Coast region captured 28, 30 May, & 17 June 2019",
 "mapName": "Layers",
 "description": "Aerial imagery of the Sunshine Coast region captured 28, 30 May, & 17 June 2019",
 "copyrightText": " Sunshine Coast Regional Council",
 "supportsDynamicLayers": true,
 "layers": [
  {
   "id": 0,
   "name": "Cities",
   "parentLayerId": -1,
   "defaultVisibility": true,
   "subLayerIds": null,
   "minScale": 288896,
   "maxScale": 72225,
   "type": "Feature Layer",
   "geometryType": "esriGeometryPoint"
  },
  {
   "id": 1,
   "name": "Localities",
   "parentLayerId": -1,
   "defaultVisibility": true,
   "subLayerIds": null,
   "minScale": 0,
   "maxScale": 0,
   "type": "Feature Layer",
   "geometryType": "esriGeometryPolygon"
  },
  {
   "id": 2,
   "name": "Beach (labels)",
   "parentLayerId": -1,
   "defaultVisibility": true,
   "subLayerIds": null,
   "minScale": 0,
   "maxScale": 0,
   "type": "Feature Layer",
   "geometryType": "esriGeometryPoint"
  },
  {
   "id": 3,
   "name": "Transportation",
   "parentLayerId": -1,
   "defaultVisibility": true,
   "subLayerIds": [
    4
   ],
   "minScale": 0,
   "maxScale": 0,
   "type": "Group Layer"
  },
  {
   "id": 4,
   "name": "Roads",
   "parentLayerId": 3,
   "defaultVisibility": true,
   "subLayerIds": [
    5,
    7,
    9,
    12,
    15
   ],
   "minScale": 0,
   "maxScale": 0,
   "type": "Group Layer"
  },
  {
   "id": 5,
   "name": "Roads (100k+)",
   "parentLayerId": 4,
   "defaultVisibility": true,
   "subLayerIds": [
    6
   ],
   "minScale": 300000,
   "maxScale": 100000,
   "type": "Group Layer"
  },
  {
   "id": 6,
   "name": "Roads (Major)",
   "parentLayerId": 5,
   "defaultVisibility": true,
   "subLayerIds": null,
   "minScale": 0,
   "maxScale": 0,
   "type": "Feature Layer",
   "geometryType": "esriGeometryPolyline"
  },
  {
   "id": 7,
   "name": "Roads (30-100k)",
   "parentLayerId": 4,
   "defaultVisibility": true,
   "subLayerIds": [
    8
   ],
   "minScale": 100000,
   "maxScale": 30000,
   "type": "Group Layer"
  },
  {
   "id": 8,
   "name": "Roads (Major)",
   "parentLayerId": 7,
   "defaultVisibility": true,
   "subLayerIds": null,
   "minScale": 0,
   "maxScale": 0,
   "type": "Feature Layer",
   "geometryType": "esriGeometryPolyline"
  },
  {
   "id": 9,
   "name": "Roads (5-30k)",
   "parentLayerId": 4,
   "defaultVisibility": true,
   "subLayerIds": [
    10,
    11
   ],
   "minScale": 30000,
   "maxScale": 5000,
   "type": "Group Layer"
  },
  {
   "id": 10,
   "name": "Roads (Major)",
   "parentLayerId": 9,
   "defaultVisibility": true,
   "subLayerIds": null,
   "minScale": 0,
   "maxScale": 0,
   "type": "Feature Layer",
   "geometryType": "esriGeometryPolyline"
  },
  {
   "id": 11,
   "name": "Roads (Intermediate)",
   "parentLayerId": 9,
   "defaultVisibility": true,
   "subLayerIds": null,
   "minScale": 300000,
   "maxScale": 0,
   "type": "Feature Layer",
   "geometryType": "esriGeometryPolyline"
  },
  {
   "id": 12,
   "name": "Roads (5-2.5k)",
   "parentLayerId": 4,
   "defaultVisibility": true,
   "subLayerIds": [
    13,
    14
   ],
   "minScale": 5000,
   "maxScale": 2500,
   "type": "Group Layer"
  },
  {
   "id": 13,
   "name": "Roads (Major)",
   "parentLayerId": 12,
   "defaultVisibility": true,
   "subLayerIds": null,
   "minScale": 0,
   "maxScale": 0,
   "type": "Feature Layer",
   "geometryType": "esriGeometryPolyline"
  },
  {
   "id": 14,
   "name": "Roads (Intermediate)",
   "parentLayerId": 12,
   "defaultVisibility": true,
   "subLayerIds": null,
   "minScale": 0,
   "maxScale": 0,
   "type": "Feature Layer",
   "geometryType": "esriGeometryPolyline"
  },
  {
   "id": 15,
   "name": "Roads (2.5-0k)",
   "parentLayerId": 4,
   "defaultVisibility": true,
   "subLayerIds": [
    16,
    17,
    18
   ],
   "minScale": 2500,
   "maxScale": 0,
   "type": "Group Layer"
  },
  {
   "id": 16,
   "name": "Roads (Major)",
   "parentLayerId": 15,
   "defaultVisibility": true,
   "subLayerIds": null,
   "minScale": 0,
   "maxScale": 0,
   "type": "Feature Layer",
   "geometryType": "esriGeometryPolyline"
  },
  {
   "id": 17,
   "name": "Roads (Intermediate)",
   "parentLayerId": 15,
   "defaultVisibility": true,
   "subLayerIds": null,
   "minScale": 0,
   "maxScale": 0,
   "type": "Feature Layer",
   "geometryType": "esriGeometryPolyline"
  },
  {
   "id": 18,
   "name": "Roads (Minor)",
   "parentLayerId": 15,
   "defaultVisibility": true,
   "subLayerIds": null,
   "minScale": 0,
   "maxScale": 0,
   "type": "Feature Layer",
   "geometryType": "esriGeometryPolyline"
  },
  {
   "id": 19,
   "name": "Scale Ranges (m=million; k=1000)",
   "parentLayerId": -1,
   "defaultVisibility": true,
   "subLayerIds": [
    20,
    21,
    22,
    23,
    24,
    25,
    26,
    27,
    28,
    30,
    32,
    34,
    36,
    38,
    41,
    44,
    46,
    48
   ],
   "minScale": 0,
   "maxScale": 0,
   "type": "Group Layer"
  },
  {
   "id": 20,
   "name": "100-150m",
   "parentLayerId": 19,
   "defaultVisibility": true,
   "subLayerIds": [],
   "minScale": 0,
   "maxScale": 100000010,
   "type": "Group Layer"
  },
  {
   "id": 21,
   "name": "100-50m",
   "parentLayerId": 19,
   "defaultVisibility": true,
   "subLayerIds": [],
   "minScale": 100000000,
   "maxScale": 50000001,
   "type": "Group Layer"
  },
  {
   "id": 22,
   "name": "50-25 m",
   "parentLayerId": 19,
   "defaultVisibility": true,
   "subLayerIds": [],
   "minScale": 50000000,
   "maxScale": 25000001,
   "type": "Group Layer"
  },
  {
   "id": 23,
   "name": "25-15 m",
   "parentLayerId": 19,
   "defaultVisibility": true,
   "subLayerIds": [],
   "minScale": 25000000,
   "maxScale": 15000001,
   "type": "Group Layer"
  },
  {
   "id": 24,
   "name": "15-5 m",
   "parentLayerId": 19,
   "defaultVisibility": true,
   "subLayerIds": [],
   "minScale": 15000000,
   "maxScale": 5000001,
   "type": "Group Layer"
  },
  {
   "id": 25,
   "name": "5-3 m",
   "parentLayerId": 19,
   "defaultVisibility": true,
   "subLayerIds": [],
   "minScale": 5000000,
   "maxScale": 3000001,
   "type": "Group Layer"
  },
  {
   "id": 26,
   "name": "3-1.5 m",
   "parentLayerId": 19,
   "defaultVisibility": true,
   "subLayerIds": [],
   "minScale": 3000000,
   "maxScale": 1500001,
   "type": "Group Layer"
  },
  {
   "id": 27,
   "name": "1.5m-750k",
   "parentLayerId": 19,
   "defaultVisibility": true,
   "subLayerIds": [],
   "minScale": 1500000,
   "maxScale": 750001,
   "type": "Group Layer"
  },
  {
   "id": 28,
   "name": "750-300k",
   "parentLayerId": 19,
   "defaultVisibility": true,
   "subLayerIds": [
    29
   ],
   "minScale": 750000,
   "maxScale": 300001,
   "type": "Group Layer"
  },
  {
   "id": 29,
   "name": "SEQ Local Government Boundaries",
   "parentLayerId": 28,
   "defaultVisibility": true,
   "subLayerIds": null,
   "minScale": 0,
   "maxScale": 0,
   "type": "Feature Layer",
   "geometryType": "esriGeometryPolygon"
  },
  {
   "id": 30,
   "name": "300-150k",
   "parentLayerId": 19,
   "defaultVisibility": true,
   "subLayerIds": [
    31
   ],
   "minScale": 300000,
   "maxScale": 150001,
   "type": "Group Layer"
  },
  {
   "id": 31,
   "name": "SEQ Local Government Boundaries",
   "parentLayerId": 30,
   "defaultVisibility": true,
   "subLayerIds": null,
   "minScale": 0,
   "maxScale": 0,
   "type": "Feature Layer",
   "geometryType": "esriGeometryPolygon"
  },
  {
   "id": 32,
   "name": "150-100k",
   "parentLayerId": 19,
   "defaultVisibility": true,
   "subLayerIds": [
    33
   ],
   "minScale": 150000,
   "maxScale": 100001,
   "type": "Group Layer"
  },
  {
   "id": 33,
   "name": "SEQ Local Government Boundaries",
   "parentLayerId": 32,
   "defaultVisibility": true,
   "subLayerIds": null,
   "minScale": 0,
   "maxScale": 0,
   "type": "Feature Layer",
   "geometryType": "esriGeometryPolygon"
  },
  {
   "id": 34,
   "name": "100-50k",
   "parentLayerId": 19,
   "defaultVisibility": true,
   "subLayerIds": [
    35
   ],
   "minScale": 100000,
   "maxScale": 50001,
   "type": "Group Layer"
  },
  {
   "id": 35,
   "name": "SEQ Local Government Boundaries",
   "parentLayerId": 34,
   "defaultVisibility": true,
   "subLayerIds": null,
   "minScale": 0,
   "maxScale": 0,
   "type": "Feature Layer",
   "geometryType": "esriGeometryPolygon"
  },
  {
   "id": 36,
   "name": "50-25k",
   "parentLayerId": 19,
   "defaultVisibility": true,
   "subLayerIds": [
    37
   ],
   "minScale": 50000,
   "maxScale": 25001,
   "type": "Group Layer"
  },
  {
   "id": 37,
   "name": "SEQ Local Government Boundaries",
   "parentLayerId": 36,
   "defaultVisibility": true,
   "subLayerIds": null,
   "minScale": 0,
   "maxScale": 0,
   "type": "Feature Layer",
   "geometryType": "esriGeometryPolygon"
  },
  {
   "id": 38,
   "name": "25-15k",
   "parentLayerId": 19,
   "defaultVisibility": true,
   "subLayerIds": [
    39,
    40
   ],
   "minScale": 25000,
   "maxScale": 15001,
   "type": "Group Layer"
  },
  {
   "id": 39,
   "name": "Rivers (labels)",
   "parentLayerId": 38,
   "defaultVisibility": true,
   "subLayerIds": null,
   "minScale": 0,
   "maxScale": 0,
   "type": "Feature Layer",
   "geometryType": "esriGeometryPolyline"
  },
  {
   "id": 40,
   "name": "SEQ Local Government Boundaries",
   "parentLayerId": 38,
   "defaultVisibility": true,
   "subLayerIds": null,
   "minScale": 0,
   "maxScale": 0,
   "type": "Feature Layer",
   "geometryType": "esriGeometryPolygon"
  },
  {
   "id": 41,
   "name": "15-5k",
   "parentLayerId": 19,
   "defaultVisibility": true,
   "subLayerIds": [
    42,
    43
   ],
   "minScale": 15000,
   "maxScale": 5001,
   "type": "Group Layer"
  },
  {
   "id": 42,
   "name": "Rivers (labels)",
   "parentLayerId": 41,
   "defaultVisibility": true,
   "subLayerIds": null,
   "minScale": 0,
   "maxScale": 0,
   "type": "Feature Layer",
   "geometryType": "esriGeometryPolyline"
  },
  {
   "id": 43,
   "name": "SEQ Local Government Boundaries",
   "parentLayerId": 41,
   "defaultVisibility": true,
   "subLayerIds": null,
   "minScale": 0,
   "maxScale": 0,
   "type": "Feature Layer",
   "geometryType": "esriGeometryPolygon"
  },
  {
   "id": 44,
   "name": "5-2.5k",
   "parentLayerId": 19,
   "defaultVisibility": true,
   "subLayerIds": [
    45
   ],
   "minScale": 5000,
   "maxScale": 2501,
   "type": "Group Layer"
  },
  {
   "id": 45,
   "name": "SEQ Local Government Boundaries",
   "parentLayerId": 44,
   "defaultVisibility": true,
   "subLayerIds": null,
   "minScale": 0,
   "maxScale": 0,
   "type": "Feature Layer",
   "geometryType": "esriGeometryPolygon"
  },
  {
   "id": 46,
   "name": "2.5-0k",
   "parentLayerId": 19,
   "defaultVisibility": true,
   "subLayerIds": [
    47
   ],
   "minScale": 2500,
   "maxScale": 0,
   "type": "Group Layer"
  },
  {
   "id": 47,
   "name": "SEQ Local Government Boundaries",
   "parentLayerId": 46,
   "defaultVisibility": true,
   "subLayerIds": null,
   "minScale": 0,
   "maxScale": 0,
   "type": "Feature Layer",
   "geometryType": "esriGeometryPolygon"
  },
  {
   "id": 48,
   "name": "Multi Scale",
   "parentLayerId": 19,
   "defaultVisibility": true,
   "subLayerIds": [
    49
   ],
   "minScale": 750000,
   "maxScale": 0,
   "type": "Group Layer"
  },
  {
   "id": 49,
   "name": "Hydrology",
   "parentLayerId": 48,
   "defaultVisibility": true,
   "subLayerIds": [
    50,
    51
   ],
   "minScale": 0,
   "maxScale": 0,
   "type": "Group Layer"
  },
  {
   "id": 50,
   "name": "Water Bodies - River and Dams (labels)",
   "parentLayerId": 49,
   "defaultVisibility": true,
   "subLayerIds": null,
   "minScale": 0,
   "maxScale": 0,
   "type": "Feature Layer",
   "geometryType": "esriGeometryPolygon"
  },
  {
   "id": 51,
   "name": "SEQ Local Government Boundaries",
   "parentLayerId": 49,
   "defaultVisibility": true,
   "subLayerIds": null,
   "minScale": 0,
   "maxScale": 0,
   "type": "Feature Layer",
   "geometryType": "esriGeometryPolygon"
  },
  {
   "id": 52,
   "name": "Aerial_2019_SCC",
   "parentLayerId": -1,
   "defaultVisibility": true,
   "subLayerIds": [
    53,
    54,
    55
   ],
   "minScale": 0,
   "maxScale": 0,
   "type": "Mosaic Layer"
  },
  {
   "id": 53,
   "name": "Boundary",
   "parentLayerId": 52,
   "defaultVisibility": false,
   "subLayerIds": null,
   "minScale": 0,
   "maxScale": 0,
   "type": "Feature Layer",
   "geometryType": "esriGeometryPolygon"
  },
  {
   "id": 54,
   "name": "Footprint",
   "parentLayerId": 52,
   "defaultVisibility": false,
   "subLayerIds": null,
   "minScale": 0,
   "maxScale": 0,
   "type": "Feature Layer",
   "geometryType": "esriGeometryPolygon"
  },
  {
   "id": 55,
   "name": "Image",
   "parentLayerId": 52,
   "defaultVisibility": true,
   "subLayerIds": null,
   "minScale": 0,
   "maxScale": 0,
   "type": "Raster Layer"
  }
 ],
 "tables": [],
 "spatialReference": {
  "wkid": 102100,
  "latestWkid": 3857
 },
 "singleFusedMapCache": true,
 "tileInfo": {
  "rows": 256,
  "cols": 256,
  "dpi": 96,
  "format": "MIXED",
  "compressionQuality": 75,
  "origin": {
   "x": -2.0037508342787E7,
   "y": 2.0037508342787E7
  },
  "spatialReference": {
   "wkid": 102100,
   "latestWkid": 3857
  },
  "lods": [
   {
    "level": 0,
    "resolution": 156543.03392800014,
    "scale": 5.91657527591555E8
   },
   {
    "level": 1,
    "resolution": 78271.51696399994,
    "scale": 2.95828763795777E8
   },
   {
    "level": 2,
    "resolution": 39135.75848200009,
    "scale": 1.47914381897889E8
   },
   {
    "level": 3,
    "resolution": 19567.87924099992,
    "scale": 7.3957190948944E7
   },
   {
    "level": 4,
    "resolution": 9783.93962049996,
    "scale": 3.6978595474472E7
   },
   {
    "level": 5,
    "resolution": 4891.96981024998,
    "scale": 1.8489297737236E7
   },
   {
    "level": 6,
    "resolution": 2445.98490512499,
    "scale": 9244648.868618
   },
   {
    "level": 7,
    "resolution": 1222.992452562495,
    "scale": 4622324.434309
   },
   {
    "level": 8,
    "resolution": 611.4962262813797,
    "scale": 2311162.217155
   },
   {
    "level": 9,
    "resolution": 305.74811314055756,
    "scale": 1155581.108577
   },
   {
    "level": 10,
    "resolution": 152.87405657041106,
    "scale": 577790.554289
   },
   {
    "level": 11,
    "resolution": 76.43702828507324,
    "scale": 288895.277144
   },
   {
    "level": 12,
    "resolution": 38.21851414253662,
    "scale": 144447.638572
   },
   {
    "level": 13,
    "resolution": 19.10925707126831,
    "scale": 72223.819286
   },
   {
    "level": 14,
    "resolution": 9.554628535634155,
    "scale": 36111.909643
   },
   {
    "level": 15,
    "resolution": 4.77731426794937,
    "scale": 18055.954822
   },
   {
    "level": 16,
    "resolution": 2.388657133974685,
    "scale": 9027.977411
   },
   {
    "level": 17,
    "resolution": 1.1943285668550503,
    "scale": 4513.988705
   },
   {
    "level": 18,
    "resolution": 0.5971642835598172,
    "scale": 2256.994353
   },
   {
    "level": 19,
    "resolution": 0.29858214164761665,
    "scale": 1128.497176
   },
   {
    "level": 20,
    "resolution": 0.14929107082380833,
    "scale": 564.248588
   },
   {
    "level": 21,
    "resolution": 0.07464553541190416,
    "scale": 282.124294
   }
  ]
 },
 "initialExtent": {
  "xmin": 1.697893531858895E7,
  "ymin": -3107764.985022571,
  "xmax": 1.7094399716184415E7,
  "ymax": -3050138.6197698386,
  "spatialReference": {
   "wkid": 102100,
   "latestWkid": 3857
  }
 },
 "fullExtent": {
  "xmin": 1.693675374935396E7,
  "ymin": -3142395.0947448746,
  "xmax": 1.7094617472236525E7,
  "ymax": -3023863.0647233566,
  "spatialReference": {
   "wkid": 102100,
   "latestWkid": 3857
  }
 },
 "minScale": 5.91657527591555E8,
 "maxScale": 282.124294,
 "units": "esriMeters",
 "supportedImageFormatTypes": "PNG32,PNG24,PNG,JPG,DIB,TIFF,EMF,PS,PDF,GIF,SVG,SVGZ,BMP",
 "documentInfo": {
  "Title": "",
  "Author": "",
  "Comments": "Aerial imagery of the Sunshine Coast region captured 28, 30 May, & 17 June 2019",
  "Subject": "Aerial imagery of the Sunshine Coast region captured 28, 30 May, & 17 June 2019",
  "Category": "",
  "AntialiasingMode": "None",
  "TextAntialiasingMode": "Force",
  "Keywords": "Aerial,imagery,basemap"
 },
 "capabilities": "Data,Map",
 "supportedQueryFormats": "JSON, geoJSON",
 "exportTilesAllowed": true,
 "maxExportTilesCount": 100000,
 "referenceScale": 0,
 "datumTransformations": [
  {
   "geoTransforms": [
    {
     "wkid": 8050,
     "latestWkid": 1150,
     "transformForward": false,
     "name": "GDA_1994_To_WGS_1984"
    },
    {
     "wkid": 108446,
     "latestWkid": 108446,
     "transformForward": true,
     "name": "GDA_1994_To_GDA2020_NTv2_3_Conformal"
    }
   ]
  },
  {
   "geoTransforms": [
    {
     "wkid": 108446,
     "latestWkid": 108446,
     "transformForward": false,
     "name": "GDA_1994_To_GDA2020_NTv2_3_Conformal"
    },
    {
     "wkid": 8050,
     "latestWkid": 1150,
     "transformForward": true,
     "name": "GDA_1994_To_WGS_1984"
    }
   ]
  }
 ],
 "supportsDatumTransformation": true,
 "maxRecordCount": 1000,
 "maxImageHeight": 4096,
 "maxImageWidth": 4096,
 "supportedExtensions": "WMSServer",
 "serviceItemId": "345f9dccb5b4490b9d1e8350f506aa31"
}
