{
 "currentVersion": 10.81,
 "serviceDescription": "Reference basemap for the Sunshine Coast",
 "mapName": "Aerial Map, Sunshine Coast, QLD Australia",
 "description": "Street map for the Sunshine Coast, QLD Australia based on detailed information sourced from the Sunshine Coast Regional Council. Information displayed outside of the Sunshine Coast region, or at scales above 750,000 is sourced from ESRI via ArcGIS Online web services.",
 "copyrightText": "Sunshine Coast Council",
 "supportsDynamicLayers": true,
 "layers": [
  {
   "id": 0,
   "name": "Sunshine Coast and Coral Sea Clip Layer",
   "parentLayerId": -1,
   "defaultVisibility": true,
   "subLayerIds": null,
   "minScale": 0,
   "maxScale": 0,
   "type": "Feature Layer",
   "geometryType": "esriGeometryPolygon"
  },
  {
   "id": 1,
   "name": "Sunshine Coast Clip Layer",
   "parentLayerId": -1,
   "defaultVisibility": true,
   "subLayerIds": null,
   "minScale": 2311162.217155,
   "maxScale": 0,
   "type": "Feature Layer",
   "geometryType": "esriGeometryPolygon"
  },
  {
   "id": 2,
   "name": "Cities",
   "parentLayerId": -1,
   "defaultVisibility": true,
   "subLayerIds": null,
   "minScale": 288896,
   "maxScale": 72225,
   "type": "Feature Layer",
   "geometryType": "esriGeometryPoint"
  },
  {
   "id": 3,
   "name": "Localities",
   "parentLayerId": -1,
   "defaultVisibility": true,
   "subLayerIds": null,
   "minScale": 0,
   "maxScale": 0,
   "type": "Feature Layer",
   "geometryType": "esriGeometryPolygon"
  },
  {
   "id": 4,
   "name": "Beach (labels)",
   "parentLayerId": -1,
   "defaultVisibility": true,
   "subLayerIds": null,
   "minScale": 0,
   "maxScale": 0,
   "type": "Feature Layer",
   "geometryType": "esriGeometryPoint"
  },
  {
   "id": 5,
   "name": "Transportation",
   "parentLayerId": -1,
   "defaultVisibility": true,
   "subLayerIds": [
    6
   ],
   "minScale": 0,
   "maxScale": 0,
   "type": "Group Layer"
  },
  {
   "id": 6,
   "name": "Roads",
   "parentLayerId": 5,
   "defaultVisibility": true,
   "subLayerIds": [
    7,
    9,
    11,
    14,
    17
   ],
   "minScale": 0,
   "maxScale": 0,
   "type": "Group Layer"
  },
  {
   "id": 7,
   "name": "Roads (100k+)",
   "parentLayerId": 6,
   "defaultVisibility": true,
   "subLayerIds": [
    8
   ],
   "minScale": 1155582,
   "maxScale": 100000,
   "type": "Group Layer"
  },
  {
   "id": 8,
   "name": "Roads (Major)",
   "parentLayerId": 7,
   "defaultVisibility": true,
   "subLayerIds": null,
   "minScale": 0,
   "maxScale": 0,
   "type": "Feature Layer",
   "geometryType": "esriGeometryPolyline"
  },
  {
   "id": 9,
   "name": "Roads (30-100k)",
   "parentLayerId": 6,
   "defaultVisibility": true,
   "subLayerIds": [
    10
   ],
   "minScale": 100000,
   "maxScale": 30000,
   "type": "Group Layer"
  },
  {
   "id": 10,
   "name": "Roads (Major)",
   "parentLayerId": 9,
   "defaultVisibility": true,
   "subLayerIds": null,
   "minScale": 0,
   "maxScale": 0,
   "type": "Feature Layer",
   "geometryType": "esriGeometryPolyline"
  },
  {
   "id": 11,
   "name": "Roads (5-30k)",
   "parentLayerId": 6,
   "defaultVisibility": true,
   "subLayerIds": [
    12,
    13
   ],
   "minScale": 30000,
   "maxScale": 5000,
   "type": "Group Layer"
  },
  {
   "id": 12,
   "name": "Roads (Major)",
   "parentLayerId": 11,
   "defaultVisibility": true,
   "subLayerIds": null,
   "minScale": 0,
   "maxScale": 0,
   "type": "Feature Layer",
   "geometryType": "esriGeometryPolyline"
  },
  {
   "id": 13,
   "name": "Roads (Intermediate)",
   "parentLayerId": 11,
   "defaultVisibility": true,
   "subLayerIds": null,
   "minScale": 300000,
   "maxScale": 0,
   "type": "Feature Layer",
   "geometryType": "esriGeometryPolyline"
  },
  {
   "id": 14,
   "name": "Roads (5-2.5k)",
   "parentLayerId": 6,
   "defaultVisibility": true,
   "subLayerIds": [
    15,
    16
   ],
   "minScale": 5000,
   "maxScale": 2500,
   "type": "Group Layer"
  },
  {
   "id": 15,
   "name": "Roads (Major)",
   "parentLayerId": 14,
   "defaultVisibility": true,
   "subLayerIds": null,
   "minScale": 0,
   "maxScale": 0,
   "type": "Feature Layer",
   "geometryType": "esriGeometryPolyline"
  },
  {
   "id": 16,
   "name": "Roads (Intermediate)",
   "parentLayerId": 14,
   "defaultVisibility": true,
   "subLayerIds": null,
   "minScale": 0,
   "maxScale": 0,
   "type": "Feature Layer",
   "geometryType": "esriGeometryPolyline"
  },
  {
   "id": 17,
   "name": "Roads (2.5-0k)",
   "parentLayerId": 6,
   "defaultVisibility": true,
   "subLayerIds": [
    18,
    19,
    20
   ],
   "minScale": 2500,
   "maxScale": 0,
   "type": "Group Layer"
  },
  {
   "id": 18,
   "name": "Roads (Major)",
   "parentLayerId": 17,
   "defaultVisibility": true,
   "subLayerIds": null,
   "minScale": 0,
   "maxScale": 0,
   "type": "Feature Layer",
   "geometryType": "esriGeometryPolyline"
  },
  {
   "id": 19,
   "name": "Roads (Intermediate)",
   "parentLayerId": 17,
   "defaultVisibility": true,
   "subLayerIds": null,
   "minScale": 0,
   "maxScale": 0,
   "type": "Feature Layer",
   "geometryType": "esriGeometryPolyline"
  },
  {
   "id": 20,
   "name": "Roads (Minor)",
   "parentLayerId": 17,
   "defaultVisibility": true,
   "subLayerIds": null,
   "minScale": 0,
   "maxScale": 0,
   "type": "Feature Layer",
   "geometryType": "esriGeometryPolyline"
  },
  {
   "id": 21,
   "name": "Scale Ranges (m=million; k=1000)",
   "parentLayerId": -1,
   "defaultVisibility": true,
   "subLayerIds": [
    22,
    24,
    26,
    28,
    30,
    32,
    35,
    38,
    40,
    42
   ],
   "minScale": 0,
   "maxScale": 0,
   "type": "Group Layer"
  },
  {
   "id": 22,
   "name": "750-300k",
   "parentLayerId": 21,
   "defaultVisibility": true,
   "subLayerIds": [
    23
   ],
   "minScale": 750000,
   "maxScale": 300001,
   "type": "Group Layer"
  },
  {
   "id": 23,
   "name": "SEQ Local Government Boundaries",
   "parentLayerId": 22,
   "defaultVisibility": true,
   "subLayerIds": null,
   "minScale": 0,
   "maxScale": 0,
   "type": "Feature Layer",
   "geometryType": "esriGeometryPolygon"
  },
  {
   "id": 24,
   "name": "300-150k",
   "parentLayerId": 21,
   "defaultVisibility": true,
   "subLayerIds": [
    25
   ],
   "minScale": 300000,
   "maxScale": 150001,
   "type": "Group Layer"
  },
  {
   "id": 25,
   "name": "SEQ Local Government Boundaries",
   "parentLayerId": 24,
   "defaultVisibility": true,
   "subLayerIds": null,
   "minScale": 0,
   "maxScale": 0,
   "type": "Feature Layer",
   "geometryType": "esriGeometryPolygon"
  },
  {
   "id": 26,
   "name": "150-100k",
   "parentLayerId": 21,
   "defaultVisibility": true,
   "subLayerIds": [
    27
   ],
   "minScale": 150000,
   "maxScale": 100001,
   "type": "Group Layer"
  },
  {
   "id": 27,
   "name": "SEQ Local Government Boundaries",
   "parentLayerId": 26,
   "defaultVisibility": true,
   "subLayerIds": null,
   "minScale": 0,
   "maxScale": 0,
   "type": "Feature Layer",
   "geometryType": "esriGeometryPolygon"
  },
  {
   "id": 28,
   "name": "100-50k",
   "parentLayerId": 21,
   "defaultVisibility": true,
   "subLayerIds": [
    29
   ],
   "minScale": 100000,
   "maxScale": 50001,
   "type": "Group Layer"
  },
  {
   "id": 29,
   "name": "SEQ Local Government Boundaries",
   "parentLayerId": 28,
   "defaultVisibility": true,
   "subLayerIds": null,
   "minScale": 0,
   "maxScale": 0,
   "type": "Feature Layer",
   "geometryType": "esriGeometryPolygon"
  },
  {
   "id": 30,
   "name": "50-25k",
   "parentLayerId": 21,
   "defaultVisibility": true,
   "subLayerIds": [
    31
   ],
   "minScale": 50000,
   "maxScale": 25001,
   "type": "Group Layer"
  },
  {
   "id": 31,
   "name": "SEQ Local Government Boundaries",
   "parentLayerId": 30,
   "defaultVisibility": true,
   "subLayerIds": null,
   "minScale": 0,
   "maxScale": 0,
   "type": "Feature Layer",
   "geometryType": "esriGeometryPolygon"
  },
  {
   "id": 32,
   "name": "25-15k",
   "parentLayerId": 21,
   "defaultVisibility": true,
   "subLayerIds": [
    33,
    34
   ],
   "minScale": 25000,
   "maxScale": 15001,
   "type": "Group Layer"
  },
  {
   "id": 33,
   "name": "Rivers (labels)",
   "parentLayerId": 32,
   "defaultVisibility": true,
   "subLayerIds": null,
   "minScale": 0,
   "maxScale": 0,
   "type": "Feature Layer",
   "geometryType": "esriGeometryPolyline"
  },
  {
   "id": 34,
   "name": "SEQ Local Government Boundaries",
   "parentLayerId": 32,
   "defaultVisibility": true,
   "subLayerIds": null,
   "minScale": 0,
   "maxScale": 0,
   "type": "Feature Layer",
   "geometryType": "esriGeometryPolygon"
  },
  {
   "id": 35,
   "name": "15-5k",
   "parentLayerId": 21,
   "defaultVisibility": true,
   "subLayerIds": [
    36,
    37
   ],
   "minScale": 15000,
   "maxScale": 5001,
   "type": "Group Layer"
  },
  {
   "id": 36,
   "name": "Rivers (labels)",
   "parentLayerId": 35,
   "defaultVisibility": true,
   "subLayerIds": null,
   "minScale": 0,
   "maxScale": 0,
   "type": "Feature Layer",
   "geometryType": "esriGeometryPolyline"
  },
  {
   "id": 37,
   "name": "SEQ Local Government Boundaries",
   "parentLayerId": 35,
   "defaultVisibility": true,
   "subLayerIds": null,
   "minScale": 0,
   "maxScale": 0,
   "type": "Feature Layer",
   "geometryType": "esriGeometryPolygon"
  },
  {
   "id": 38,
   "name": "5-2.5k",
   "parentLayerId": 21,
   "defaultVisibility": true,
   "subLayerIds": [
    39
   ],
   "minScale": 5000,
   "maxScale": 2501,
   "type": "Group Layer"
  },
  {
   "id": 39,
   "name": "SEQ Local Government Boundaries",
   "parentLayerId": 38,
   "defaultVisibility": true,
   "subLayerIds": null,
   "minScale": 0,
   "maxScale": 0,
   "type": "Feature Layer",
   "geometryType": "esriGeometryPolygon"
  },
  {
   "id": 40,
   "name": "2.5-0k",
   "parentLayerId": 21,
   "defaultVisibility": true,
   "subLayerIds": [
    41
   ],
   "minScale": 2500,
   "maxScale": 0,
   "type": "Group Layer"
  },
  {
   "id": 41,
   "name": "SEQ Local Government Boundaries",
   "parentLayerId": 40,
   "defaultVisibility": true,
   "subLayerIds": null,
   "minScale": 0,
   "maxScale": 0,
   "type": "Feature Layer",
   "geometryType": "esriGeometryPolygon"
  },
  {
   "id": 42,
   "name": "Multi Scale",
   "parentLayerId": 21,
   "defaultVisibility": true,
   "subLayerIds": [
    43
   ],
   "minScale": 750000,
   "maxScale": 0,
   "type": "Group Layer"
  },
  {
   "id": 43,
   "name": "Hydrology",
   "parentLayerId": 42,
   "defaultVisibility": true,
   "subLayerIds": [
    44,
    45
   ],
   "minScale": 0,
   "maxScale": 0,
   "type": "Group Layer"
  },
  {
   "id": 44,
   "name": "Water Bodies - River and Dams (labels)",
   "parentLayerId": 43,
   "defaultVisibility": true,
   "subLayerIds": null,
   "minScale": 0,
   "maxScale": 0,
   "type": "Feature Layer",
   "geometryType": "esriGeometryPolygon"
  },
  {
   "id": 45,
   "name": "SEQ Local Government Boundaries",
   "parentLayerId": 43,
   "defaultVisibility": true,
   "subLayerIds": null,
   "minScale": 0,
   "maxScale": 0,
   "type": "Feature Layer",
   "geometryType": "esriGeometryPolygon"
  }
 ],
 "tables": [],
 "spatialReference": {
  "wkid": 102100,
  "latestWkid": 3857
 },
 "singleFusedMapCache": true,
 "tileInfo": {
  "rows": 256,
  "cols": 256,
  "dpi": 96,
  "format": "MIXED",
  "compressionQuality": 75,
  "origin": {
   "x": -2.0037508342787E7,
   "y": 2.0037508342787E7
  },
  "spatialReference": {
   "wkid": 102100,
   "latestWkid": 3857
  },
  "lods": [
   {
    "level": 0,
    "resolution": 156543.03392800014,
    "scale": 5.91657527591555E8
   },
   {
    "level": 1,
    "resolution": 78271.51696399994,
    "scale": 2.95828763795777E8
   },
   {
    "level": 2,
    "resolution": 39135.75848200009,
    "scale": 1.47914381897889E8
   },
   {
    "level": 3,
    "resolution": 19567.87924099992,
    "scale": 7.3957190948944E7
   },
   {
    "level": 4,
    "resolution": 9783.93962049996,
    "scale": 3.6978595474472E7
   },
   {
    "level": 5,
    "resolution": 4891.96981024998,
    "scale": 1.8489297737236E7
   },
   {
    "level": 6,
    "resolution": 2445.98490512499,
    "scale": 9244648.868618
   },
   {
    "level": 7,
    "resolution": 1222.992452562495,
    "scale": 4622324.434309
   },
   {
    "level": 8,
    "resolution": 611.4962262813797,
    "scale": 2311162.217155
   },
   {
    "level": 9,
    "resolution": 305.74811314055756,
    "scale": 1155581.108577
   },
   {
    "level": 10,
    "resolution": 152.87405657041106,
    "scale": 577790.554289
   },
   {
    "level": 11,
    "resolution": 76.43702828507324,
    "scale": 288895.277144
   },
   {
    "level": 12,
    "resolution": 38.21851414253662,
    "scale": 144447.638572
   },
   {
    "level": 13,
    "resolution": 19.10925707126831,
    "scale": 72223.819286
   },
   {
    "level": 14,
    "resolution": 9.554628535634155,
    "scale": 36111.909643
   },
   {
    "level": 15,
    "resolution": 4.77731426794937,
    "scale": 18055.954822
   },
   {
    "level": 16,
    "resolution": 2.388657133974685,
    "scale": 9027.977411
   },
   {
    "level": 17,
    "resolution": 1.1943285668550503,
    "scale": 4513.988705
   },
   {
    "level": 18,
    "resolution": 0.5971642835598172,
    "scale": 2256.994353
   },
   {
    "level": 19,
    "resolution": 0.29858214164761665,
    "scale": 1128.497176
   },
   {
    "level": 20,
    "resolution": 0.14929107082380833,
    "scale": 564.248588
   },
   {
    "level": 21,
    "resolution": 0.07464553541190416,
    "scale": 282.124294
   }
  ]
 },
 "initialExtent": {
  "xmin": 1.698530469201074E7,
  "ymin": -3063263.9968399596,
  "xmax": 1.706145192763855E7,
  "ymax": -3032148.9346098336,
  "spatialReference": {
   "cs": "pcs",
   "wkid": 102100
  }
 },
 "fullExtent": {
  "xmin": 1.6889326312200002E7,
  "ymin": -3294939.1653000005,
  "xmax": 1.7093349511699997E7,
  "ymax": -2816122.9078,
  "spatialReference": {
   "cs": "pcs",
   "wkid": 102100
  }
 },
 "minScale": 5.91657527591555E8,
 "maxScale": 564.248588,
 "units": "esriMeters",
 "supportedImageFormatTypes": "PNG32,PNG24,PNG,JPG,DIB,TIFF,EMF,PS,PDF,GIF,SVG,SVGZ,BMP",
 "documentInfo": {
  "Title": "",
  "Author": "",
  "Comments": "Reference basemap for the Sunshine Coast",
  "Subject": "Reference basemap for the Sunshine Coast",
  "Category": "",
  "AntialiasingMode": "None",
  "TextAntialiasingMode": "Force",
  "Keywords": "Basemap,Sunshine Coast"
 },
 "capabilities": "Map,Query,Data",
 "supportedQueryFormats": "JSON, geoJSON",
 "exportTilesAllowed": false,
 "referenceScale": 2256,
 "supportsDatumTransformation": true,
 "maxRecordCount": 1000,
 "maxImageHeight": 4096,
 "maxImageWidth": 4096,
 "supportedExtensions": "WMSServer",
 "serviceItemId": "5b20b9a1ffc644a5a6f11c10fcfe081c"
}
