{
 "currentVersion": 10.81,
 "serviceDescription": "Updated Nov 2018",
 "mapName": "Street Map, Sunshine Coast, QLD Australia",
 "description": "Street map for the Sunshine Coast, QLD Australia based on detailed information sourced from the Sunshine Coast Regional Council. Information displayed outside of the Sunshine Coast region, or at scales above 750,000 is sourced from ESRI via ArcGIS Online web services.",
 "copyrightText": "Sunshine Coast Regional Council",
 "supportsDynamicLayers": true,
 "layers": [
  {
   "id": 2,
   "name": "New Group Layer",
   "parentLayerId": -1,
   "defaultVisibility": true,
   "subLayerIds": [
    3,
    4,
    5,
    6,
    7
   ],
   "minScale": 0,
   "maxScale": 0,
   "type": "Group Layer"
  },
  {
   "id": 8,
   "name": "Transportation",
   "parentLayerId": -1,
   "defaultVisibility": true,
   "subLayerIds": [
    9,
    12
   ],
   "minScale": 1250000,
   "maxScale": 0,
   "type": "Group Layer"
  },
  {
   "id": 9,
   "name": "Railroads",
   "parentLayerId": 8,
   "defaultVisibility": true,
   "subLayerIds": [
    10,
    11
   ],
   "minScale": 0,
   "maxScale": 0,
   "type": "Group Layer"
  },
  {
   "id": 12,
   "name": "Road Names",
   "parentLayerId": 8,
   "defaultVisibility": true,
   "subLayerIds": [
    13,
    16,
    20,
    25,
    30
   ],
   "minScale": 0,
   "maxScale": 0,
   "type": "Group Layer"
  },
  {
   "id": 13,
   "name": "Roads (150k to 1000k)",
   "parentLayerId": 12,
   "defaultVisibility": true,
   "subLayerIds": [
    14,
    15
   ],
   "minScale": 0,
   "maxScale": 0,
   "type": "Group Layer"
  },
  {
   "id": 16,
   "name": "Roads (50k to 150k)",
   "parentLayerId": 12,
   "defaultVisibility": true,
   "subLayerIds": [
    17,
    18,
    19
   ],
   "minScale": 150000,
   "maxScale": 50000,
   "type": "Group Layer"
  },
  {
   "id": 20,
   "name": "Roads (20k - 50k)",
   "parentLayerId": 12,
   "defaultVisibility": true,
   "subLayerIds": [
    21,
    22,
    23,
    24
   ],
   "minScale": 50000,
   "maxScale": 20001,
   "type": "Group Layer"
  },
  {
   "id": 25,
   "name": "Roads (5k - 20k)",
   "parentLayerId": 12,
   "defaultVisibility": true,
   "subLayerIds": [
    26,
    27,
    28,
    29
   ],
   "minScale": 20000,
   "maxScale": 4999,
   "type": "Group Layer"
  },
  {
   "id": 30,
   "name": "Roads (0-5k)",
   "parentLayerId": 12,
   "defaultVisibility": true,
   "subLayerIds": [
    31,
    32,
    33,
    34
   ],
   "minScale": 4999,
   "maxScale": 0,
   "type": "Group Layer"
  },
  {
   "id": 35,
   "name": "Scale Ranges (m=million; k=1000)",
   "parentLayerId": -1,
   "defaultVisibility": true,
   "subLayerIds": [
    36
   ],
   "minScale": 0,
   "maxScale": 0,
   "type": "Group Layer"
  },
  {
   "id": 36,
   "name": "Multi Scale",
   "parentLayerId": 35,
   "defaultVisibility": true,
   "subLayerIds": [
    37,
    38,
    39,
    54,
    55,
    56,
    62,
    65,
    66
   ],
   "minScale": 1250000,
   "maxScale": 0,
   "type": "Group Layer"
  },
  {
   "id": 39,
   "name": "Hydrology",
   "parentLayerId": 36,
   "defaultVisibility": true,
   "subLayerIds": [
    40,
    43,
    45,
    49
   ],
   "minScale": 0,
   "maxScale": 0,
   "type": "Group Layer"
  },
  {
   "id": 40,
   "name": "New Group Layer",
   "parentLayerId": 39,
   "defaultVisibility": true,
   "subLayerIds": [
    41,
    42
   ],
   "minScale": 0,
   "maxScale": 0,
   "type": "Group Layer"
  },
  {
   "id": 43,
   "name": "New Group Layer",
   "parentLayerId": 39,
   "defaultVisibility": true,
   "subLayerIds": [
    44
   ],
   "minScale": 0,
   "maxScale": 0,
   "type": "Group Layer"
  },
  {
   "id": 45,
   "name": "Indicative Watercourses",
   "parentLayerId": 39,
   "defaultVisibility": true,
   "subLayerIds": [
    46,
    47,
    48
   ],
   "minScale": 0,
   "maxScale": 0,
   "type": "Group Layer"
  },
  {
   "id": 49,
   "name": "Watercourses",
   "parentLayerId": 39,
   "defaultVisibility": true,
   "subLayerIds": [
    50,
    51,
    52,
    53
   ],
   "minScale": 0,
   "maxScale": 0,
   "type": "Group Layer"
  },
  {
   "id": 56,
   "name": "Parks",
   "parentLayerId": 36,
   "defaultVisibility": true,
   "subLayerIds": [
    57,
    58,
    59,
    60,
    61
   ],
   "minScale": 1250000,
   "maxScale": 0,
   "type": "Group Layer"
  },
  {
   "id": 62,
   "name": "Airports",
   "parentLayerId": 36,
   "defaultVisibility": true,
   "subLayerIds": [
    63,
    64
   ],
   "minScale": 144447,
   "maxScale": 0,
   "type": "Group Layer"
  },
  {
   "id": 66,
   "name": "Hillshade",
   "parentLayerId": 36,
   "defaultVisibility": true,
   "subLayerIds": [
    67,
    68
   ],
   "minScale": 0,
   "maxScale": 0,
   "type": "Group Layer"
  },
  {
   "id": 68,
   "name": "Mosaic Dataset Hillshade",
   "parentLayerId": 66,
   "defaultVisibility": true,
   "subLayerIds": [
    69
   ],
   "minScale": 0,
   "maxScale": 0,
   "type": "Group Layer"
  },
  {
   "id": 69,
   "name": "ElevgrdTerrainHillshade_2008_SCRC_WebMercator",
   "parentLayerId": 68,
   "defaultVisibility": true,
   "subLayerIds": [
    70,
    71,
    72
   ],
   "minScale": 0,
   "maxScale": 0,
   "type": "Mosaic Layer"
  },
  {
   "id": 70,
   "name": "Boundary",
   "parentLayerId": 69,
   "defaultVisibility": false,
   "subLayerIds": null,
   "minScale": 0,
   "maxScale": 0,
   "type": "Feature Layer",
   "geometryType": "esriGeometryPolygon"
  },
  {
   "id": 71,
   "name": "Footprint",
   "parentLayerId": 69,
   "defaultVisibility": false,
   "subLayerIds": null,
   "minScale": 0,
   "maxScale": 0,
   "type": "Feature Layer",
   "geometryType": "esriGeometryPolygon"
  },
  {
   "id": 72,
   "name": "Image",
   "parentLayerId": 69,
   "defaultVisibility": true,
   "subLayerIds": null,
   "minScale": 0,
   "maxScale": 0,
   "type": "Raster Layer"
  }
 ],
 "tables": [],
 "spatialReference": {
  "wkid": 102100,
  "latestWkid": 3857
 },
 "singleFusedMapCache": true,
 "tileInfo": {
  "rows": 256,
  "cols": 256,
  "dpi": 96,
  "format": "MIXED",
  "compressionQuality": 75,
  "origin": {
   "x": -2.0037508342787E7,
   "y": 2.0037508342787E7
  },
  "spatialReference": {
   "wkid": 102100,
   "latestWkid": 3857
  },
  "lods": [
   {
    "level": 0,
    "resolution": 156543.03392800014,
    "scale": 5.91657527591555E8
   },
   {
    "level": 1,
    "resolution": 78271.51696399994,
    "scale": 2.95828763795777E8
   },
   {
    "level": 2,
    "resolution": 39135.75848200009,
    "scale": 1.47914381897889E8
   },
   {
    "level": 3,
    "resolution": 19567.87924099992,
    "scale": 7.3957190948944E7
   },
   {
    "level": 4,
    "resolution": 9783.93962049996,
    "scale": 3.6978595474472E7
   },
   {
    "level": 5,
    "resolution": 4891.96981024998,
    "scale": 1.8489297737236E7
   },
   {
    "level": 6,
    "resolution": 2445.98490512499,
    "scale": 9244648.868618
   },
   {
    "level": 7,
    "resolution": 1222.992452562495,
    "scale": 4622324.434309
   },
   {
    "level": 8,
    "resolution": 611.4962262813797,
    "scale": 2311162.217155
   },
   {
    "level": 9,
    "resolution": 305.74811314055756,
    "scale": 1155581.108577
   },
   {
    "level": 10,
    "resolution": 152.87405657041106,
    "scale": 577790.554289
   },
   {
    "level": 11,
    "resolution": 76.43702828507324,
    "scale": 288895.277144
   },
   {
    "level": 12,
    "resolution": 38.21851414253662,
    "scale": 144447.638572
   },
   {
    "level": 13,
    "resolution": 19.10925707126831,
    "scale": 72223.819286
   },
   {
    "level": 14,
    "resolution": 9.554628535634155,
    "scale": 36111.909643
   },
   {
    "level": 15,
    "resolution": 4.77731426794937,
    "scale": 18055.954822
   },
   {
    "level": 16,
    "resolution": 2.388657133974685,
    "scale": 9027.977411
   },
   {
    "level": 17,
    "resolution": 1.1943285668550503,
    "scale": 4513.988705
   },
   {
    "level": 18,
    "resolution": 0.5971642835598172,
    "scale": 2256.994353
   },
   {
    "level": 19,
    "resolution": 0.29858214164761665,
    "scale": 1128.497176
   },
   {
    "level": 20,
    "resolution": 0.14929107082380833,
    "scale": 564.248588
   },
   {
    "level": 21,
    "resolution": 0.07464553541190416,
    "scale": 282.124294
   }
  ]
 },
 "initialExtent": {
  "xmin": 1.701070734305569E7,
  "ymin": -3092038.883605193,
  "xmax": 1.7049308042339657E7,
  "ymax": -3077554.066745172,
  "spatialReference": {
   "wkid": 102100,
   "latestWkid": 3857
  }
 },
 "fullExtent": {
  "xmin": 1.6970097019959245E7,
  "ymin": -3121908.7614723183,
  "xmax": 1.7081825493416194E7,
  "ymax": -3051622.0583989117,
  "spatialReference": {
   "wkid": 102100,
   "latestWkid": 3857
  }
 },
 "minScale": 1155581.108577,
 "maxScale": 282.124294,
 "minLOD": 9,
 "maxLOD": 21,
 "units": "esriMeters",
 "supportedImageFormatTypes": "PNG32,PNG24,PNG,JPG,DIB,TIFF,EMF,PS,PDF,GIF,SVG,SVGZ,BMP",
 "documentInfo": {
  "Title": "Sunshine Coast Street Map",
  "Author": "Louise Walker",
  "Comments": "Updated Nov 2018",
  "Subject": "Street map for the Sunshine Coast, QLD Australia based on detailed information sourced from the Sunshine Coast Regional Council.",
  "Category": "",
  "AntialiasingMode": "None",
  "TextAntialiasingMode": "Force",
  "Keywords": "Australia,Base Map,geoHUB,local government,MyMaps,Property,QLD,Queensland,Sunshine Coast,Sunshine Coast Council"
 },
 "capabilities": "Data,Map",
 "supportedQueryFormats": "JSON, geoJSON",
 "exportTilesAllowed": false,
 "referenceScale": 0,
 "datumTransformations": [
  {
   "geoTransforms": [
    {
     "wkid": 108001,
     "latestWkid": 1241,
     "transformForward": true,
     "name": "NAD_1927_To_NAD_1983_NADCON"
    }
   ]
  },
  {
   "geoTransforms": [
    {
     "wkid": 108001,
     "latestWkid": 1241,
     "transformForward": false,
     "name": "NAD_1927_To_NAD_1983_NADCON"
    }
   ]
  }
 ],
 "supportsDatumTransformation": true,
 "maxRecordCount": 1000,
 "maxImageHeight": 4096,
 "maxImageWidth": 4096,
 "supportedExtensions": "WMSServer",
 "serviceItemId": "efadffd29bb74d1db7698d172b739b89"
}
