View In:
ArcGIS JavaScript
ArcGIS Online Map Viewer
ArcGIS Earth
ArcMap
ArcGIS Pro
View Footprint In:
ArcGIS Online Map Viewer
Service Description: Updated Nov 2018
Map Name: Street Map, Sunshine Coast, QLD Australia
Legend
All Layers and Tables
Dynamic Legend
Dynamic All Layers
Layers:
Description: Street map for the Sunshine Coast, QLD Australia based on detailed information sourced from the Sunshine Coast Regional Council. Information displayed outside of the Sunshine Coast region, or at scales above 750,000 is sourced from ESRI via ArcGIS Online web services.
Service Item Id: efadffd29bb74d1db7698d172b739b89
Copyright Text: Sunshine Coast Regional Council
Spatial Reference:
102100
(3857)
Single Fused Map Cache: true
Tile Info:
- Height: 256
- Width: 256
- DPI: 96
-
Levels of Detail: 22
-
Level ID: 0
[ Start Tile, End Tile ]
- Resolution: 156543.03392800014
- Scale: 5.91657527591555E8
-
Level ID: 1
[ Start Tile, End Tile ]
- Resolution: 78271.51696399994
- Scale: 2.95828763795777E8
-
Level ID: 2
[ Start Tile, End Tile ]
- Resolution: 39135.75848200009
- Scale: 1.47914381897889E8
-
Level ID: 3
[ Start Tile, End Tile ]
- Resolution: 19567.87924099992
- Scale: 7.3957190948944E7
-
Level ID: 4
[ Start Tile, End Tile ]
- Resolution: 9783.93962049996
- Scale: 3.6978595474472E7
-
Level ID: 5
[ Start Tile, End Tile ]
- Resolution: 4891.96981024998
- Scale: 1.8489297737236E7
- Format: MIXED
- Compression Quality: 75.0
- Origin: X: -2.0037508342787E7
Y: 2.0037508342787E7
- Spatial Reference: 102100
(3857)
Initial Extent:
XMin: 1.701070734305569E7
YMin: -3092038.883605193
XMax: 1.7049308042339657E7
YMax: -3077554.066745172
Spatial Reference: 102100
(3857)
Full Extent:
XMin: 1.6970097019959245E7
YMin: -3121908.7614723183
XMax: 1.7081825493416194E7
YMax: -3051622.0583989117
Spatial Reference: 102100
(3857)
Units: esriMeters
Supported Image Format Types: PNG32,PNG24,PNG,JPG,DIB,TIFF,EMF,PS,PDF,GIF,SVG,SVGZ,BMP
Document Info:
Title: Sunshine Coast Street Map
Author: Louise Walker
Comments: Updated Nov 2018
Subject: Street map for the Sunshine Coast, QLD Australia based on detailed information sourced from the Sunshine Coast Regional Council.
Category:
Keywords: Australia,Base Map,geoHUB,local government,MyMaps,Property,QLD,Queensland,Sunshine Coast,Sunshine Coast Council
AntialiasingMode: None
TextAntialiasingMode: Force
Supports Dynamic Layers: true
MaxRecordCount: 1000
MaxImageHeight: 4096
MaxImageWidth: 4096
Supported Query Formats: JSON, geoJSON
Supports Query Data Elements:
Min Scale: 1155581.108577
Max Scale: 282.124294
Min LOD: 9
Max LOD: 21
Supports Datum Transformation: true
Child Resources:
Info
Dynamic Layer
Supported Operations:
Export Map
Find
Return Updates